BEGIN:VCALENDAR
VERSION:2.0
PRODID:-//Steesmat - ECPv6.15.13//NONSGML v1.0//EN
CALSCALE:GREGORIAN
METHOD:PUBLISH
X-ORIGINAL-URL:https://steesmat.eu
X-WR-CALDESC:Events for Steesmat
REFRESH-INTERVAL;VALUE=DURATION:PT1H
X-Robots-Tag:noindex
X-PUBLISHED-TTL:PT1H
BEGIN:VTIMEZONE
TZID:Europe/Oslo
BEGIN:DAYLIGHT
TZOFFSETFROM:+0100
TZOFFSETTO:+0200
TZNAME:CEST
DTSTART:20240331T010000
END:DAYLIGHT
BEGIN:STANDARD
TZOFFSETFROM:+0200
TZOFFSETTO:+0100
TZNAME:CET
DTSTART:20241027T010000
END:STANDARD
BEGIN:DAYLIGHT
TZOFFSETFROM:+0100
TZOFFSETTO:+0200
TZNAME:CEST
DTSTART:20250330T010000
END:DAYLIGHT
BEGIN:STANDARD
TZOFFSETFROM:+0200
TZOFFSETTO:+0100
TZNAME:CET
DTSTART:20251026T010000
END:STANDARD
BEGIN:DAYLIGHT
TZOFFSETFROM:+0100
TZOFFSETTO:+0200
TZNAME:CEST
DTSTART:20260329T010000
END:DAYLIGHT
BEGIN:STANDARD
TZOFFSETFROM:+0200
TZOFFSETTO:+0100
TZNAME:CET
DTSTART:20261025T010000
END:STANDARD
END:VTIMEZONE
BEGIN:VEVENT
DTSTART;VALUE=DATE:20250602
DTEND;VALUE=DATE:20250607
DTSTAMP:20260424T112510
CREATED:20250328T111920Z
LAST-MODIFIED:20250401T113020Z
UID:222-1748822400-1749254399@steesmat.eu
SUMMARY:Nor-Shipping 2025
DESCRIPTION:Nor-Shipping is the meeting place for globally leading maritime players\, technology innovators\, investors\, and all the stakeholders interested in realizing ocean opportunities. When returning for their 60th anniversary next summer\, expectations are higher than ever before.
URL:https://steesmat.eu/event/nor-shipping-2025/
LOCATION:Nova Spektrum\, Messeveien 8\, Lillestrøm\, 2004\, Norway
ATTACH;FMTTYPE=image/png:https://steesmat.eu/wp-content/uploads/2025/03/NH-ex.png
END:VEVENT
END:VCALENDAR