BEGIN:VCALENDAR
VERSION:2.0
PRODID:-//Steesmat - ECPv6.15.13//NONSGML v1.0//EN
CALSCALE:GREGORIAN
METHOD:PUBLISH
X-WR-CALNAME:Steesmat
X-ORIGINAL-URL:https://steesmat.eu
X-WR-CALDESC:Events for Steesmat
REFRESH-INTERVAL;VALUE=DURATION:PT1H
X-Robots-Tag:noindex
X-PUBLISHED-TTL:PT1H
BEGIN:VTIMEZONE
TZID:Europe/Oslo
BEGIN:DAYLIGHT
TZOFFSETFROM:+0100
TZOFFSETTO:+0200
TZNAME:CEST
DTSTART:20240331T010000
END:DAYLIGHT
BEGIN:STANDARD
TZOFFSETFROM:+0200
TZOFFSETTO:+0100
TZNAME:CET
DTSTART:20241027T010000
END:STANDARD
BEGIN:DAYLIGHT
TZOFFSETFROM:+0100
TZOFFSETTO:+0200
TZNAME:CEST
DTSTART:20250330T010000
END:DAYLIGHT
BEGIN:STANDARD
TZOFFSETFROM:+0200
TZOFFSETTO:+0100
TZNAME:CET
DTSTART:20251026T010000
END:STANDARD
BEGIN:DAYLIGHT
TZOFFSETFROM:+0100
TZOFFSETTO:+0200
TZNAME:CEST
DTSTART:20260329T010000
END:DAYLIGHT
BEGIN:STANDARD
TZOFFSETFROM:+0200
TZOFFSETTO:+0100
TZNAME:CET
DTSTART:20261025T010000
END:STANDARD
END:VTIMEZONE
BEGIN:VEVENT
DTSTART;TZID=Europe/Oslo:20250403T090000
DTEND;TZID=Europe/Oslo:20250403T103000
DTSTAMP:20260424T174246
CREATED:20250328T114453Z
LAST-MODIFIED:20250328T114545Z
UID:226-1743670800-1743676200@steesmat.eu
SUMMARY:TechUpdate: Leaner & Greener Operations at Sea
DESCRIPTION:With stricter emission regulations and rising fuel costs\, improving energy efficiency is more important than ever in the maritime sector. How can new digital tools and energy systems help reduce fuel consumption and support greener operations at sea? \nSTEESMAT is proud to be featured in an upcoming webinar hosted by Maritime CleanTech\, where industry experts will present forward-looking technologies designed to make shipping more energy-efficient and sustainable. Among the highlights is a presentation from Wärtsilä\, showcasing their work on future-ready power distribution systems developed as part of the STEESMAT project. \nThe event will offer insights into advanced automation\, digital tools\, air lubrication\, wind-assisted propulsion\, and smart energy systems—several of which are directly aligned with STEESMAT’s mission to deliver a next-generation power distribution architecture for large vessels. \nAGENDA \n\nWelcome by Maritime CleanTech\nOnboard Installations to Increase Efficiency  Erik Hjortland\, VP of Technology\, Odfjell Ship Management\nPower Distribution Fit for the Future Fleet (STEESMAT focus)  Geirmund Mæland\, Senior Project Engineer\, Wärtsilä\nSaving Fuel & Setting Sails  Vår Emilie Kjærnes\, Innovation & Sustainability Manager\, Wallenius Wilhelmsen\nReducing Fuel Consumption by Innovating the HVAC System  Sigbjørn Tyssen\, Sales Director\, Teknotherm\nSmarter Operations Controlled from Shore  Helge Austerheim\, Project Manager\, DeepOcean\nClosing Remarks by Maritime CleanTech\n\nThis event is hosted by Maritime CleanTech and supported by STEESMAT \nSign up using this link: Sign up here
URL:https://steesmat.eu/event/techupdate-leaner-greener-operations-at-sea/
ATTACH;FMTTYPE=image/webp:https://steesmat.eu/wp-content/uploads/2025/03/TechUpdate-LeanerAndGreenerOperationsAtSea-EventCover-v2.1-PNG.webp
END:VEVENT
END:VCALENDAR